BEGIN:VCALENDAR
VERSION:2.0
PRODID:-//Event Day Roll//WordPress Plugin//EN
CALSCALE:GREGORIAN
METHOD:PUBLISH
X-WR-CALNAME:Historic Zora Neale Hurston Sojourn &amp\; Museum
X-WR-TIMEZONE:America/New_York
BEGIN:VTIMEZONE
TZID:America/New_York
END:VTIMEZONE
BEGIN:VEVENT
UID:edr-1296-1749945600@zorasojourn.com
DTSTAMP:20260422T182536Z
DTSTART;TZID=America/New_York:20250615T100000
DTEND;TZID=America/New_York:20250615T110000
SUMMARY:Test Summer Workshop
DESCRIPTION:Join us for an amazing summer workshop where we'll explore creative writing
 and storytelling techniques inspired by Zora Neale Hurston's literary
 legacy.\n\n9:00 AM - Registration & Coffee\n10:00 AM - Opening Session:
 Introduction to Zora's Work\n12:00 PM - Lunch Break\n1:00 PM - Writing
 Workshop\n3:00 PM - Group Discussion\n4:00 PM - Closing Remarks
URL:https://zorasojourn.com/events/test-summer-workshop/
STATUS:CONFIRMED
END:VEVENT
BEGIN:VEVENT
UID:edr-1296-1750550400@zorasojourn.com
DTSTAMP:20260422T182536Z
DTSTART;TZID=America/New_York:20250622T100000
DTEND;TZID=America/New_York:20250622T110000
SUMMARY:Test Summer Workshop
DESCRIPTION:Join us for an amazing summer workshop where we'll explore creative writing
 and storytelling techniques inspired by Zora Neale Hurston's literary
 legacy.\n\n9:00 AM - Registration & Coffee\n10:00 AM - Opening Session:
 Introduction to Zora's Work\n12:00 PM - Lunch Break\n1:00 PM - Writing
 Workshop\n3:00 PM - Group Discussion\n4:00 PM - Closing Remarks
URL:https://zorasojourn.com/events/test-summer-workshop/
STATUS:CONFIRMED
END:VEVENT
BEGIN:VEVENT
UID:edr-1296-1751155200@zorasojourn.com
DTSTAMP:20260422T182536Z
DTSTART;TZID=America/New_York:20250629T100000
DTEND;TZID=America/New_York:20250629T110000
SUMMARY:Test Summer Workshop
DESCRIPTION:Join us for an amazing summer workshop where we'll explore creative writing
 and storytelling techniques inspired by Zora Neale Hurston's literary
 legacy.\n\n9:00 AM - Registration & Coffee\n10:00 AM - Opening Session:
 Introduction to Zora's Work\n12:00 PM - Lunch Break\n1:00 PM - Writing
 Workshop\n3:00 PM - Group Discussion\n4:00 PM - Closing Remarks
URL:https://zorasojourn.com/events/test-summer-workshop/
STATUS:CONFIRMED
END:VEVENT
END:VCALENDAR